BEGIN:VCALENDAR
VERSION:2.0
PRODID:-// - ECPv6.15.15//NONSGML v1.0//EN
CALSCALE:GREGORIAN
METHOD:PUBLISH
X-ORIGINAL-URL:https://nritoday.net
X-WR-CALDESC:Events for 
REFRESH-INTERVAL;VALUE=DURATION:PT1H
X-Robots-Tag:noindex
X-PUBLISHED-TTL:PT1H
BEGIN:VTIMEZONE
TZID:America/New_York
BEGIN:DAYLIGHT
TZOFFSETFROM:-0500
TZOFFSETTO:-0400
TZNAME:EDT
DTSTART:20230312T070000
END:DAYLIGHT
BEGIN:STANDARD
TZOFFSETFROM:-0400
TZOFFSETTO:-0500
TZNAME:EST
DTSTART:20231105T060000
END:STANDARD
BEGIN:DAYLIGHT
TZOFFSETFROM:-0500
TZOFFSETTO:-0400
TZNAME:EDT
DTSTART:20240310T070000
END:DAYLIGHT
BEGIN:STANDARD
TZOFFSETFROM:-0400
TZOFFSETTO:-0500
TZNAME:EST
DTSTART:20241103T060000
END:STANDARD
BEGIN:DAYLIGHT
TZOFFSETFROM:-0500
TZOFFSETTO:-0400
TZNAME:EDT
DTSTART:20250309T070000
END:DAYLIGHT
BEGIN:STANDARD
TZOFFSETFROM:-0400
TZOFFSETTO:-0500
TZNAME:EST
DTSTART:20251102T060000
END:STANDARD
END:VTIMEZONE
BEGIN:VTIMEZONE
TZID:UTC
BEGIN:STANDARD
TZOFFSETFROM:+0000
TZOFFSETTO:+0000
TZNAME:UTC
DTSTART:20200101T000000
END:STANDARD
END:VTIMEZONE
BEGIN:VEVENT
DTSTART;TZID=America/New_York:20240423T221427
DTEND;TZID=America/New_York:20240423T221427
DTSTAMP:20260422T005906
CREATED:20240423T221426Z
LAST-MODIFIED:20240423T221426Z
UID:6832-1713910467-1713910467@nritoday.net
SUMMARY:DESI FUSION
DESCRIPTION:
URL:https://nritoday.net/event/desi-fusion/
LOCATION:Kundan Galleria\, 217 Bethpage Road\,\, Hicksville\,\, NY\, NY 11801\, United States
ORGANIZER;CN="Desi Fusion":MAILTO:anjanadesifusion@gmail.com
END:VEVENT
BEGIN:VEVENT
DTSTART;TZID=America/New_York:20240421T173000
DTEND;TZID=America/New_York:20240421T173000
DTSTAMP:20260422T005906
CREATED:20240416T220123Z
LAST-MODIFIED:20240416T220630Z
UID:6795-1713720600-1713720600@nritoday.net
SUMMARY:Annual Gala
DESCRIPTION:
URL:https://nritoday.net/event/annual-gala/
LOCATION:Huntington Hilton\, 598\, broadhollow Rd\,\, Melville\, NY\, 11747\, United States
END:VEVENT
BEGIN:VEVENT
DTSTART;TZID=America/New_York:20240420T120000
DTEND;TZID=America/New_York:20240420T170000
DTSTAMP:20260422T005906
CREATED:20240416T212045Z
LAST-MODIFIED:20240416T212045Z
UID:6787-1713614400-1713632400@nritoday.net
SUMMARY:Holi Hai 2.0
DESCRIPTION:
URL:https://nritoday.net/event/holi-hai-2-0/
LOCATION:Liberty belle 1\, pier 36\,\, 229 south Street\,\, New york\, NY\, 10002\, United States
END:VEVENT
BEGIN:VEVENT
DTSTART;TZID=UTC:20220521T170000
DTEND;TZID=UTC:20220521T230000
DTSTAMP:20260422T005906
CREATED:20220220T035922Z
LAST-MODIFIED:20220220T035922Z
UID:5481-1653152400-1653174000@nritoday.net
SUMMARY:Arijit Singh Live in Concert
DESCRIPTION:
URL:https://nritoday.net/event/arijit-singh-live-in-concert/
LOCATION:Gas South Arena\, Atlanta\, GA\, United States
END:VEVENT
BEGIN:VEVENT
DTSTART;TZID=UTC:20210612T090000
DTEND;TZID=UTC:20210612T110000
DTSTAMP:20260422T005906
CREATED:20210606T212234Z
LAST-MODIFIED:20210606T212234Z
UID:5191-1623488400-1623495600@nritoday.net
SUMMARY:Covid19 Free consultation for patients in India - TAMA Clinic
DESCRIPTION:Virtual consultation with Doctors via Zoom meeting\nPlease email at clinic@tama.org to discuss more details \nDate:\nMay 29\nJune 5\nJune 12\nJune 19\nJune 26 \nEvery Saturday\n9.00am to 11.am EST\n6.30pm to 9.30pm IST
URL:https://nritoday.net/event/covid19-free-consultation-for-patients-in-india-tama-clinic/
LOCATION:NJ
ATTACH;FMTTYPE=image/jpeg:https://nritoday.net/wp-content/uploads/covid19-free-consultation-for-patients-in-india-tama-clinic-thumb.jpeg
END:VEVENT
END:VCALENDAR